BEGIN:VCALENDAR
PRODID:-//eluceo/ical//2.0/EN
VERSION:2.0
CALSCALE:GREGORIAN
BEGIN:VEVENT
UID:cb7081a46809251f4371f02a6f848d70
DTSTAMP:20260423T000729Z
SUMMARY:TEMPLE HAR ZION|Sirens then Silence: Holocaust Survivors' Reality i
 n Israel
DESCRIPTION:UJA Federation of Greater Toronto\nJewish Toronto Calendar\nhtt
 ps://jewishtoronto.com/calendar/temple-har-zionsirens-then-silence-holocau
 st-survivors-reality-in-israel-1634826460\n\nAs Holocaust Education Week b
 egins\, please join us for this special Israel Culture Club interactive pr
 esentation by our ShinShinit\, Mika.\n\nClick on the link above to registe
 r for this virtual event.
DTSTART;TZID=America/Toronto:20211102T193000
DTEND;TZID=America/Toronto:20211102T210000
END:VEVENT
END:VCALENDAR
