BEGIN:VCALENDAR
PRODID:-//eluceo/ical//2.0/EN
VERSION:2.0
CALSCALE:GREGORIAN
BEGIN:VEVENT
UID:212916590b0ad5c904f60303562d07c8
DTSTAMP:20260422T021828Z
SUMMARY:Temple Har Zion Yom Ha’atzma’ut Concert
DESCRIPTION:UJA Federation of Greater Toronto\nJewish Toronto Calendar\nhtt
 ps://jewishtoronto.com/calendar/temple-har-zion-yom-haatzmaut-concert\n\nM
 ikolot Mayim Sacred Music: Rabbi Or and Feliza Zohar\nAn erev Yom Ha'atzma
 'ut Concert\nBased in the Galilee\, this husband and wife team have been s
 haring their original sacred music for over a decade\, using it as a power
 ful tool for bringing people together and promoting a more pluralistic and
  progressive society in Israel.\n\nEntrance is free for all!
DTSTART;TZID=America/Toronto:20180418T193000
DTEND;TZID=America/Toronto:20180418T213000
END:VEVENT
END:VCALENDAR
