BEGIN:VCALENDAR
PRODID:-//eluceo/ical//2.0/EN
VERSION:2.0
CALSCALE:GREGORIAN
BEGIN:VEVENT
UID:5e5d734a5eb1f1096bf129ceae347217
DTSTAMP:20260421T043632Z
SUMMARY:TEMPLE HAR ZION |What Holds Us Together as the Jewish People?
DESCRIPTION:UJA Federation of Greater Toronto\nJewish Toronto Calendar\nhtt
 ps://jewishtoronto.com/calendar/temple-har-zion-what-holds-us-together-as-
 the-jewish-people-1706112239\n\nMONDAY JANUARY 29 at noon via Zoom\n"What 
 Holds Us Together as the Jewish People/Jewish Women?"\n\nThese overlapping
  questions open us up to a wide range of issues\, from how to cherish trad
 ition while not being oppressed by it\, to how the current war affects Jew
 ish peoplehood.\n\nPlease let your ideas roll around in your head between 
 now and the 29th. Then\, set yourself up with a snack\, lunch\, or beverag
 e and login to the meeting! \n\nRSVP for the link https://bit.ly/3vO1yWh
DTSTART;TZID=America/Toronto:20240129T120000
DTEND;TZID=America/Toronto:20240129T140000
END:VEVENT
END:VCALENDAR
