BEGIN:VCALENDAR
PRODID:-//eluceo/ical//2.0/EN
VERSION:2.0
CALSCALE:GREGORIAN
BEGIN:VEVENT
UID:31f50c223fd46e6b851235fdffdf6bd6
DTSTAMP:20260426T023952Z
SUMMARY:Temple Har Zion: URJ Day of Learning:
DESCRIPTION:UJA Federation of Greater Toronto\nJewish Toronto Calendar\nhtt
 ps://jewishtoronto.com/calendar/temple-har-zion-urj-day-of-learning-150833
 6563\n\n'How Successful Congregations Embrace Change'\nJoin us as URJ comm
 unities throughout North America will be gathering to explore this issue. 
 This day of learning offers a live-streaming with award-winning author Ani
 ta Diamant.
DTSTART;TZID=America/Toronto:20171029T130000
DTEND;TZID=America/Toronto:20171029T170000
END:VEVENT
END:VCALENDAR
