BEGIN:VCALENDAR
PRODID:-//eluceo/ical//2.0/EN
VERSION:2.0
CALSCALE:GREGORIAN
BEGIN:VEVENT
UID:6e4e22cf16eb3f07a4cc6a8fabb9bfe8
DTSTAMP:20260419T221716Z
SUMMARY:Temple Har Zion: Spring Lecture Series with Rabbi Stroh
DESCRIPTION:UJA Federation of Greater Toronto\nJewish Toronto Calendar\nhtt
 ps://jewishtoronto.com/calendar/temple-har-zion-spring-lecture-series-with
 -rabbi-stroh-1555515163\n\n'How can we find meaning in the tangled web of 
 human and Jewish history.'\nJoin us for interesting and informative Lunch 
 & Learn sessions with Rabbi Stroh on May 9\, 16\, 23 and 30 at noon.
DTSTART;TZID=America/Toronto:20190509T120000
DTEND;TZID=America/Toronto:20190509T140000
END:VEVENT
END:VCALENDAR
