BEGIN:VCALENDAR
PRODID:-//eluceo/ical//2.0/EN
VERSION:2.0
CALSCALE:GREGORIAN
BEGIN:VEVENT
UID:78cabb9c8690f97a689909fb7101deb1
DTSTAMP:20260421T142248Z
SUMMARY:TEMPLE HAR ZION |Speaking of Unmentionables!
DESCRIPTION:UJA Federation of Greater Toronto\nJewish Toronto Calendar\nhtt
 ps://jewishtoronto.com/calendar/temple-har-zion-speaking-of-unmentionables
 -1699286797\n\nJoin THZ Sisterhood and WRJ for a fun\, informative\, and o
 ccasionally naughty program dedicated to the history\, design\, and functi
 on of women&#039\;s undergarments.\n\nWe&#039\;ll explore everything from 
 corsets to water bras in this exciting presentation. Join one of our regio
 nal in-person watch parties with other women from your area or tune in fro
 m home. In-person events have a social action component\, where we will be
  collecting new women&#039\;s underwear and socks to donate to nearby shel
 ters or women&#039\;s...
DTSTART;TZID=America/Toronto:20231119T150000
DTEND;TZID=America/Toronto:20231119T170000
END:VEVENT
END:VCALENDAR
