BEGIN:VCALENDAR
PRODID:-//eluceo/ical//2.0/EN
VERSION:2.0
CALSCALE:GREGORIAN
BEGIN:VEVENT
UID:9f6cd9ef9756c6b460c9da2c408950ff
DTSTAMP:20260420T090157Z
SUMMARY:Temple Har Zion Sisterhood Book Review
DESCRIPTION:UJA Federation of Greater Toronto\nJewish Toronto Calendar\nhtt
 ps://jewishtoronto.com/calendar/temple-har-zion-sisterhood-book-review-155
 3519970\n\nPlease join the THZ Sisterhood when Sherry Gluck will discuss '
 The Immortalists' by Chloe Benjamin.\nCommunity guests $3.00\nLight refres
 hments will be served.
DTSTART;TZID=America/Toronto:20190516T193000
DTEND;TZID=America/Toronto:20190516T210000
END:VEVENT
END:VCALENDAR
