BEGIN:VCALENDAR
PRODID:-//eluceo/ical//2.0/EN
VERSION:2.0
CALSCALE:GREGORIAN
BEGIN:VEVENT
UID:2e7c95b32a379a9a117039fbf2f0df9e
DTSTAMP:20260424T224441Z
SUMMARY:Temple Har Zion: Pop Up for POM (pop-up choir for Peace of Mind)
DESCRIPTION:UJA Federation of Greater Toronto\nJewish Toronto Calendar\nhtt
 ps://jewishtoronto.com/calendar/temple-har-zion-pop-up-for-pom-pop-up-choi
 r-for-peace-of-mind-1559314528\n\nJoin us for a musical and fun evening...
 Learn & perform 2 songs in 2 hours in 2-part harmony. Cost $18\nPlease reg
 ister online at harzion.ca/events or pay at the door.\nAll proceeds go dir
 ectly to POM.
DTSTART;TZID=America/Toronto:20190612T193000
DTEND;TZID=America/Toronto:20190612T220000
END:VEVENT
END:VCALENDAR
