BEGIN:VCALENDAR
PRODID:-//eluceo/ical//2.0/EN
VERSION:2.0
CALSCALE:GREGORIAN
BEGIN:VEVENT
UID:bb2f9f07218a9d8523ad3e4896c474b3
DTSTAMP:20260423T020107Z
SUMMARY:TEMPLE HAR ZION & PJ LIBRARY | Shabbat Fun in the Sun!
DESCRIPTION:UJA Federation of Greater Toronto\nJewish Toronto Calendar\nhtt
 ps://jewishtoronto.com/calendar/temple-har-zion-pj-library--shabbat-fun-in
 -the-sun\n\nParents and grandparents: Get ready for Shabbat and bring your
  little ones (ages 5 & under) to Temple Har Zion for a FREE hour of fun in
  the sun every Friday in July and August at 10am! Crafts\, music\, story t
 ime in our beautiful garden\, and so much more! Rain or shine\, as we have
  an indoor space\, too. This is a wonderful opportunity to meet our clergy
  and other parents in our community. Please bring your friends along for t
 his free event!\n\n 
DTSTART;TZID=America/Toronto:20220708T100000
DTEND;TZID=America/Toronto:20220708T110000
END:VEVENT
END:VCALENDAR
