BEGIN:VCALENDAR
PRODID:-//eluceo/ical//2.0/EN
VERSION:2.0
CALSCALE:GREGORIAN
BEGIN:VEVENT
UID:4ba35568b86baa418498b9b5ef1fcb84
DTSTAMP:20260424T055640Z
SUMMARY:Temple Har Zion Lunch and Learn
DESCRIPTION:UJA Federation of Greater Toronto\nJewish Toronto Calendar\nhtt
 ps://jewishtoronto.com/calendar/temple-har-zion-lunch-and-learn-Mar-20\n\n
 Join Rabbi Weiss for Lunch and Learn every Thursday at noon - study Talmud
 \, Midrash\, Parashat HaShavu'ah\, and Reform Responsa.
DTSTART;TZID=America/Toronto:20140320T120000
DTEND;TZID=America/Toronto:20140320T143000
END:VEVENT
END:VCALENDAR
