BEGIN:VCALENDAR
PRODID:-//eluceo/ical//2.0/EN
VERSION:2.0
CALSCALE:GREGORIAN
BEGIN:VEVENT
UID:c7ad345cd91386f028b6d4e2abc44093
DTSTAMP:20260422T233818Z
SUMMARY:Temple Har Zion Lunch and Learn
DESCRIPTION:UJA Federation of Greater Toronto\nJewish Toronto Calendar\nhtt
 ps://jewishtoronto.com/calendar/temple-har-zion-lunch-and-learn-Feb-27\n\n
 Join Rabbi Weiss for Lunch and Learn every Thursday at noon - study Talmud
 \, Midrash\, Parashat HaShavu'ah\, and Reform Responsa.
DTSTART;TZID=America/Toronto:20140227T120000
DTEND;TZID=America/Toronto:20140227T133000
END:VEVENT
END:VCALENDAR
