BEGIN:VCALENDAR
PRODID:-//eluceo/ical//2.0/EN
VERSION:2.0
CALSCALE:GREGORIAN
BEGIN:VEVENT
UID:cc99daf83375a5542078fb5828648ffe
DTSTAMP:20260419T193448Z
SUMMARY:Temple Har Zion: Lunch & Learn with Rabbi Weiss
DESCRIPTION:UJA Federation of Greater Toronto\nJewish Toronto Calendar\nhtt
 ps://jewishtoronto.com/calendar/temple-har-zion-lunch--learn-with-rabbi-we
 iss-1542033616\n\nRabbi Cory Weiss leads the study on Jewish topics\, main
 ly on Mussar\, the ethical traditions of Judaism.\nBring your lunch for no
 on.
DTSTART;TZID=America/Toronto:20181115T120000
DTEND;TZID=America/Toronto:20181115T140000
END:VEVENT
END:VCALENDAR
