BEGIN:VCALENDAR
PRODID:-//eluceo/ical//2.0/EN
VERSION:2.0
CALSCALE:GREGORIAN
BEGIN:VEVENT
UID:138b56736939d1acf8c0184bb2c35c7c
DTSTAMP:20260422T072911Z
SUMMARY:Temple Har Zion Lecture Presentation All About Music
DESCRIPTION:UJA Federation of Greater Toronto\nJewish Toronto Calendar\nhtt
 ps://jewishtoronto.com/calendar/temple-har-zion-lecture-presentation-all-a
 bout-music\n\n"I Didn't Know They Wrote Jewish Music?" with Rabbi Cory Wei
 ss
DTSTART;TZID=America/Toronto:20140609T193000
DTEND;TZID=America/Toronto:20140609T220000
END:VEVENT
END:VCALENDAR
