BEGIN:VCALENDAR
PRODID:-//eluceo/ical//2.0/EN
VERSION:2.0
CALSCALE:GREGORIAN
BEGIN:VEVENT
UID:f24307d4215f4839d08f0dcdf4ac08f9
DTSTAMP:20260421T062528Z
SUMMARY:Temple Har Zion Kol Bo Shabbat Service & Israeli Dinner
DESCRIPTION:UJA Federation of Greater Toronto\nJewish Toronto Calendar\nhtt
 ps://jewishtoronto.com/calendar/temple-har-zion-kol-bo-shabbat-service--is
 raeli-dinner-1521563702\n\nPlease join us for our all music service and a 
 wonderful Israeli Dinner.\nReservations are required: please call Jaye @ 9
 05-889-2252 ext. 108
DTSTART;TZID=America/Toronto:20180420T183000
DTEND;TZID=America/Toronto:20180420T203000
END:VEVENT
END:VCALENDAR
