BEGIN:VCALENDAR
PRODID:-//eluceo/ical//2.0/EN
VERSION:2.0
CALSCALE:GREGORIAN
BEGIN:VEVENT
UID:f3715c8123cb30ab4fa7a713327d57ad
DTSTAMP:20260422T190112Z
SUMMARY:TEMPLE HAR ZION |Kavanah Shabbat: Meditative-Musical Experience
DESCRIPTION:UJA Federation of Greater Toronto\nJewish Toronto Calendar\nhtt
 ps://jewishtoronto.com/calendar/temple-har-zion-kavanah-shabbat-meditative
 -musical-experience-1699384056\n\nFRIDAY DECEMBER 15 at 6:30pm \nKavanah S
 habbat: A Meditative-Musical Shabbat Experience \n\nEveryone is welcome to
  join Rabbi Cory Weiss\, Cantor Rachael Littman\, and Music Director Elean
 or Ackerman Rice as we focus our hearts and souls on music that moves us a
 s a worship community.\n\nRabbi Abraham Joshua Heschel taught that prayer 
 should take us out of our heads and into our hearts. Kavanah Shabbat is de
 signed to do just that: use music\, chant\, breathing and meditation to br
 ing us to new...
DTSTART;TZID=America/Toronto:20231215T183000
DTEND;TZID=America/Toronto:20231215T193000
END:VEVENT
END:VCALENDAR
