BEGIN:VCALENDAR
PRODID:-//eluceo/ical//2.0/EN
VERSION:2.0
CALSCALE:GREGORIAN
BEGIN:VEVENT
UID:9f55780f5cf805a7335ca3e224239dd6
DTSTAMP:20260423T215115Z
SUMMARY:Temple Har Zion: Holocaust Education Week-EVENT
DESCRIPTION:UJA Federation of Greater Toronto\nJewish Toronto Calendar\nhtt
 ps://jewishtoronto.com/calendar/temple-har-zion-holocaust-education-week-e
 vent-1508337264\n\n'DREAMS OF RE-CREATION IN JAMAICA: HOLOCAUST\, INTERNME
 NT\, JEWISH REFUGEES IN GIBRALTAR CAMP\, JAMAICAN JEWS AND SEPHARDIM'\nJoi
 n us when Professor Diana Cooper-Clark will discuss the connection of the 
 Holocaust to Jamaica\, up till now\, an unknown part of the Shoah History.
DTSTART;TZID=America/Toronto:20171104T193000
DTEND;TZID=America/Toronto:20171104T210000
END:VEVENT
END:VCALENDAR
