BEGIN:VCALENDAR
PRODID:-//eluceo/ical//2.0/EN
VERSION:2.0
CALSCALE:GREGORIAN
BEGIN:VEVENT
UID:e2ad9ff215a42094ed19f73a4878dac4
DTSTAMP:20260421T191013Z
SUMMARY:Temple Har Zion: High Holy Day Children's Service (Free)
DESCRIPTION:UJA Federation of Greater Toronto\nJewish Toronto Calendar\nhtt
 ps://jewishtoronto.com/calendar/temple-har-zion-high-holy-day-childrens-se
 rvice-free\n\nCHILDREN'S SERVICES DURING ROSH HASHANAH AND YOM KIPPUR are 
 FREE but TICKETS ARE REQUIRED\nCall 905-889-2252\nMonday\, September 10 @ 
 3:30 PM - Rosh Hashanah\nWednesday\, September 19 @ 2:30 PM - Yom Kippur
DTSTART;TZID=America/Toronto:20180910T153000
DTEND;TZID=America/Toronto:20180910T164500
END:VEVENT
END:VCALENDAR
