BEGIN:VCALENDAR
PRODID:-//eluceo/ical//2.0/EN
VERSION:2.0
CALSCALE:GREGORIAN
BEGIN:VEVENT
UID:0b7bc7f31f583723e04b448b0f1838a6
DTSTAMP:20260420T011958Z
SUMMARY:Temple Har Zion: Ha'Ikar Film Screening "Torn"
DESCRIPTION:UJA Federation of Greater Toronto\nJewish Toronto Calendar\nhtt
 ps://jewishtoronto.com/calendar/temple-har-zion-haikar-film-screening-torn
 -1752776732\n\nIf you missed it at the Toronto Jewish Film Festival\, here
 's another opportunity to see it! Documentary "Torn" examines the motivati
 ons for placing and removing posters of the hostages\, highlighting ideolo
 gical clashes and street-level activism. A post-screening discussion will 
 explore these themes.\n\nFor more information and to register\, https://ww
 w.harzion.ca/event/haikar-film-screening-torn.html\n\n\n 
DTSTART;TZID=America/Toronto:20250730T190000
DTEND;TZID=America/Toronto:20250730T210000
END:VEVENT
END:VCALENDAR
