BEGIN:VCALENDAR
PRODID:-//eluceo/ical//2.0/EN
VERSION:2.0
CALSCALE:GREGORIAN
BEGIN:VEVENT
UID:980f7b390f103a38e6071c4ccee7dc72
DTSTAMP:20260419T193731Z
SUMMARY:Temple Har Zion - Guest Speaker Michael Mostyn\, CEO of B’nai Bri
 th Canada
DESCRIPTION:UJA Federation of Greater Toronto\nJewish Toronto Calendar\nhtt
 ps://jewishtoronto.com/calendar/temple-har-zion-guest-speaker-michael-most
 yn-ceo-of-bnai-brith-canada\n\nThe Adult Education Committee Presents Mich
 ael Mostyn\, CEO of B’nai Brith Canada. Michael Mostyn will discuss the 
 new direction that B’nai Brith has embarked on. Kabbalat Shabbat on Frid
 ay\, October 30. Join us for services at 8:00pm\, with speakers following 
 services.\n\n 
DTSTART;TZID=America/Toronto:20151030T200000
DTEND;TZID=America/Toronto:20151030T213000
END:VEVENT
END:VCALENDAR
