BEGIN:VCALENDAR
PRODID:-//eluceo/ical//2.0/EN
VERSION:2.0
CALSCALE:GREGORIAN
BEGIN:VEVENT
UID:c037db69d807160786b5d2212a0c9619
DTSTAMP:20260423T110706Z
SUMMARY:TEMPLE HAR ZION | Explore 4
DESCRIPTION:UJA Federation of Greater Toronto\nJewish Toronto Calendar\nhtt
 ps://jewishtoronto.com/calendar/temple-har-zion-explore-4\n\nWe're opening
  our school doors from 9.30am-12.30pm on SUNDAY mornings and we'd LOVE to 
 see you!\n\nYour kids in grades JK-6 can try us out for only $60 per sessi
 on (4 classes in total)!\n\nThey’ll enjoy a typical morning with us\, in
 cluding:\n- Musical gathering with Rabbi Weiss\, Cantor Littman\, our song
  leaders and our Beit Midrash community\n- Cooking with Marnee of Taste Bu
 dds Cooking School\n- Time with Maya\, our ShinShinit from Israel\n- Songs
  and movement\n- Class time with their grade...
DTSTART;TZID=America/Toronto:20241020T093000
DTEND;TZID=America/Toronto:20241020T123000
END:VEVENT
END:VCALENDAR
