BEGIN:VCALENDAR
PRODID:-//eluceo/ical//2.0/EN
VERSION:2.0
CALSCALE:GREGORIAN
BEGIN:VEVENT
UID:ccf4ef2a28a67840ced73a484e040dfe
DTSTAMP:20260425T193526Z
SUMMARY:Temple Har Zion - Daytime Speakers Series
DESCRIPTION:UJA Federation of Greater Toronto\nJewish Toronto Calendar\nhtt
 ps://jewishtoronto.com/calendar/temple-har-zion-daytime-speakers-series\n\
 nDaytime Speaker Series presents “Mindful Meditation and Cognitive Behav
 ioural Therapy: Tools for understanding and regulating your thoughts and e
 motions”\, with Louisa Mailis\, M.Ed\, and Karen Spivak\, PH.D. Register
 ed Psychologist. Speakers begin at 12:30pm. Admission is $3 for Temple Mem
 bers and $6 for Guests. Everyone is welcome\, so bring your friends. www.t
 empleharzion.com\, 7360 Bayview Avenue\, Thornhill. (905) 889-2252\n\n 
DTSTART;TZID=America/Toronto:20151124T120000
DTEND;TZID=America/Toronto:20151124T140000
END:VEVENT
END:VCALENDAR
