BEGIN:VCALENDAR
PRODID:-//eluceo/ical//2.0/EN
VERSION:2.0
CALSCALE:GREGORIAN
BEGIN:VEVENT
UID:306d7b6a206986e1439d1f2f88b86a7a
DTSTAMP:20260421T212437Z
SUMMARY:Temple Har Zion: Daytime Speaker Series: Hearts of Hate
DESCRIPTION:UJA Federation of Greater Toronto\nJewish Toronto Calendar\nhtt
 ps://jewishtoronto.com/calendar/temple-har-zion-daytime-speaker-series-hea
 rts-of-hate-1536267637\n\nHearts of Hate Canadian White Supremacists by El
 isa Hategan\, She was recruited at 16 by the Heritage Front. She ended up 
 spying for the police. There is a war being waged in Canada for young mind
 s. It's happening on the streets and in the schoolyards\, erupting in viol
 ence and hate.
DTSTART;TZID=America/Toronto:20181023T120000
DTEND;TZID=America/Toronto:20181023T140000
END:VEVENT
END:VCALENDAR
