BEGIN:VCALENDAR
PRODID:-//eluceo/ical//2.0/EN
VERSION:2.0
CALSCALE:GREGORIAN
BEGIN:VEVENT
UID:5a705fcc70b08e97c3d36fa676b945df
DTSTAMP:20260422T122441Z
SUMMARY:Temple Har Zion Daytime Speaker: Bruce Bell
DESCRIPTION:UJA Federation of Greater Toronto\nJewish Toronto Calendar\nhtt
 ps://jewishtoronto.com/calendar/temple-har-zion-daytime-speaker-bruce-bell
 -1508165409\n\nJoin us when Bruce Bell will discuss 'Influential People Wh
 o Changed Toronto's History'\n12:00 Bring your own lunch / 12:30 speaker p
 resentation\nTHZ Members: $5 / Community Guests $8
DTSTART;TZID=America/Toronto:20171114T120000
DTEND;TZID=America/Toronto:20171114T140000
END:VEVENT
END:VCALENDAR
