BEGIN:VCALENDAR
PRODID:-//eluceo/ical//2.0/EN
VERSION:2.0
CALSCALE:GREGORIAN
BEGIN:VEVENT
UID:aff557f797d8785ba77f7a6aad5bf40a
DTSTAMP:20260421T142348Z
SUMMARY:Temple Har Zion: Cannabis: A Candid Community Discussion
DESCRIPTION:UJA Federation of Greater Toronto\nJewish Toronto Calendar\nhtt
 ps://jewishtoronto.com/calendar/temple-har-zion-cannabis-a-candid-communit
 y-discussion-1547221814\n\nHear Canada's leading medical and industry expe
 rts discuss the facts and myths about cannabis and share insights into the
  medical science.\nModerator: Jordan Silverberg\nSpeakers: Dr. Michael Ver
 bora\, Dr. Melissa Snider-Adler\, Jay Rosenthal\nTemple Members: $5.00 I n
 on-members $10.00. Register online at harzion.ca/calendar
DTSTART;TZID=America/Toronto:20190220T190000
DTEND;TZID=America/Toronto:20190220T210000
END:VEVENT
END:VCALENDAR
