BEGIN:VCALENDAR
PRODID:-//eluceo/ical//2.0/EN
VERSION:2.0
CALSCALE:GREGORIAN
BEGIN:VEVENT
UID:54cd1c25690308861fd13a76cdae8120
DTSTAMP:20260420T131838Z
SUMMARY:Temple Har Zion: Brotherhood Joke Fest
DESCRIPTION:UJA Federation of Greater Toronto\nJewish Toronto Calendar\nhtt
 ps://jewishtoronto.com/calendar/temple-har-zion-brotherhood-joke-fest-1546
 616611\n\nJoin us for a great opportunity to scratch your funny bone by sh
 aring humour\, jokes and stories.\nCommunity Members are welcome. Cost for
  Community members $5.00\nPlease register in advance at harzion.ca
DTSTART;TZID=America/Toronto:20190116T190000
DTEND;TZID=America/Toronto:20190116T210000
END:VEVENT
END:VCALENDAR
