BEGIN:VCALENDAR
PRODID:-//eluceo/ical//2.0/EN
VERSION:2.0
CALSCALE:GREGORIAN
BEGIN:VEVENT
UID:4f86a44d6e861aad2a681ed0f4af69fc
DTSTAMP:20260424T010820Z
SUMMARY:Temple Har Zion Book Club: Karolina's Twins
DESCRIPTION:UJA Federation of Greater Toronto\nJewish Toronto Calendar\nhtt
 ps://jewishtoronto.com/calendar/temple-har-zion-book-club-karolinas-twins-
 1501600115\n\nKarolina's Twins by Ronals Balson\n\nA spellbinding new nove
 l by the bestselling author of 'Once We were Brothers' and 'Saving Sophie'
 .
DTSTART;TZID=America/Toronto:20170906T193000
DTEND;TZID=America/Toronto:20170906T210000
END:VEVENT
END:VCALENDAR
