BEGIN:VCALENDAR
PRODID:-//eluceo/ical//2.0/EN
VERSION:2.0
CALSCALE:GREGORIAN
BEGIN:VEVENT
UID:bf100d0cff138d8bd796aaed7ee52a37
DTSTAMP:20260425T194913Z
SUMMARY:Temple Har Zion: ASAP-Active Seniors at Play: Come Inside and Play 
 Games
DESCRIPTION:UJA Federation of Greater Toronto\nJewish Toronto Calendar\nhtt
 ps://jewishtoronto.com/calendar/temple-har-zion-asap-active-seniors-at-pla
 y-come-inside-and-play-games-1514995982\n\nASAP - Active Seniors at Play\n
 Come and join your friends\, play some games and test your skills\nEnjoy a
  bowl of hot soup.\nMembers: $5 Non-members: $7\nRSVP: asap@templeharzion.
 com
DTSTART;TZID=America/Toronto:20180121T123000
DTEND;TZID=America/Toronto:20180121T153000
END:VEVENT
END:VCALENDAR
