BEGIN:VCALENDAR
PRODID:-//eluceo/ical//2.0/EN
VERSION:2.0
CALSCALE:GREGORIAN
BEGIN:VEVENT
UID:2f6b26977ed7b0c67cca60a71bcbd3cd
DTSTAMP:20260419T195056Z
SUMMARY:TEMPLE HAR ZION | Unbalanced during COVID: Dr Betsy Stone
DESCRIPTION:UJA Federation of Greater Toronto\nJewish Toronto Calendar\nhtt
 ps://jewishtoronto.com/calendar/temple-har-zion--unbalanced-during-covid-d
 r-betsy-stone-1612299299\n\nUNBALANCED DURING COVID: WHAT OUR MINDS AND BO
 DIES ARE TELLING US\nIf you&#039\;re feeling anxiety and grief these days\
 , it&rsquo\;s a healthy\, natural response to the seismic shift that our d
 ay-by-day realities have undergone for almost a year.\n\nPlease join Templ
 e Har Zion and Dr. Betsy Stone - Psychologist\, Teacher\, Facilitator - at
  this special virtual event. \n\nTrauma makes it difficult for us to think
  and wears us out. Dr. Stone explores our &quot\;normal&quot\; reactions t
 o heightened stress.\n\nEveryone is...
DTSTART;TZID=America/Toronto:20210209T193000
DTEND;TZID=America/Toronto:20210209T213000
END:VEVENT
END:VCALENDAR
