BEGIN:VCALENDAR
PRODID:-//eluceo/ical//2.0/EN
VERSION:2.0
CALSCALE:GREGORIAN
BEGIN:VEVENT
UID:64e55130f4ea1927b157e58eb3616417
DTSTAMP:20260425T211321Z
SUMMARY:Temple Har Zion: : Sip & Schmooze
DESCRIPTION:UJA Federation of Greater Toronto\nJewish Toronto Calendar\nhtt
 ps://jewishtoronto.com/calendar/temple-har-zion--sip--schmooze-1559573279\
 n\nJoin us every Monday starting on July 8 from noon to 1:30pm and talk ab
 out whatever you find interesting. Anything goes! Everyone is welcome to a
 ttend! Bring your lunch and bring friends.
DTSTART;TZID=America/Toronto:20190708T120000
DTEND;TZID=America/Toronto:20190708T235959
END:VEVENT
END:VCALENDAR
