BEGIN:VCALENDAR
PRODID:-//eluceo/ical//2.0/EN
VERSION:2.0
CALSCALE:GREGORIAN
BEGIN:VEVENT
UID:b6d1d5453e438611e28805229357de15
DTSTAMP:20260419T193237Z
SUMMARY:TEMPLE HAR ZION | Shabbat Services in the Garden
DESCRIPTION:UJA Federation of Greater Toronto\nJewish Toronto Calendar\nhtt
 ps://jewishtoronto.com/calendar/temple-har-zion--shabbat-services-in-the-g
 arden-1687881168\n\nPlease join us on Friday evenings during the summer fo
 r services in our lovely garden!\nEveryone is welcome to attend.\n\nKindly
  RSVP in advance: https://www.harzion.ca/attend
DTSTART;TZID=America/Toronto:20230630T183000
DTEND;TZID=America/Toronto:20230630T193000
END:VEVENT
END:VCALENDAR
