BEGIN:VCALENDAR
PRODID:-//eluceo/ical//2.0/EN
VERSION:2.0
CALSCALE:GREGORIAN
BEGIN:VEVENT
UID:373ad45dd02e04b61bf9bc4ed294c5aa
DTSTAMP:20260423T155831Z
SUMMARY:TEMPLE HAR ZION | Scotch Tasting & Nosh
DESCRIPTION:UJA Federation of Greater Toronto\nJewish Toronto Calendar\nhtt
 ps://jewishtoronto.com/calendar/temple-har-zion--scotch-tasting--nosh-1724
 341204\n\nJoin us for an unforgettable evening of tasting five Single Malt
  Scotch whiskies. Share in the camaraderie as we learn about Scotch and en
 joy an assortment of noshes to enhance the experience.\n\nTHZ Member: $140
 \; Community Guest: $160\; YAM Member: $75\n\nRSVP in advance https://bit.
 ly/3TnG1gr
DTSTART;TZID=America/Toronto:20240915T183000
DTEND;TZID=America/Toronto:20240915T210000
END:VEVENT
END:VCALENDAR
