BEGIN:VCALENDAR
PRODID:-//eluceo/ical//2.0/EN
VERSION:2.0
CALSCALE:GREGORIAN
BEGIN:VEVENT
UID:cb7ab3b0137a55265278439813f5e032
DTSTAMP:20260423T160309Z
SUMMARY:Temple Har Zion | Salsa Night! Bring your dancing shoes
DESCRIPTION:UJA Federation of Greater Toronto\nJewish Toronto Calendar\nhtt
 ps://jewishtoronto.com/calendar/temple-har-zion--salsa-night-bring-your-da
 ncing-shoes-1572298143\n\nYou don’t need a partner to have a wonderful t
 ime with Eunice and Julian! Please join us and have some fun!\nOnly $18 pe
 r person\; light refreshments will be served\nPLEASE RSVP ONLINE
DTSTART;TZID=America/Toronto:20191103T193000
DTEND;TZID=America/Toronto:20191103T213000
END:VEVENT
END:VCALENDAR
