BEGIN:VCALENDAR
PRODID:-//eluceo/ical//2.0/EN
VERSION:2.0
CALSCALE:GREGORIAN
BEGIN:VEVENT
UID:f7c88373d6cfb08e7665e2e421ce8224
DTSTAMP:20260422T224029Z
SUMMARY:TEMPLE HAR ZION | Rosh Chodesh: Sara Aaronsohn\, our Jewish Mata Ha
 ri
DESCRIPTION:UJA Federation of Greater Toronto\nJewish Toronto Calendar\nhtt
 ps://jewishtoronto.com/calendar/temple-har-zion--rosh-chodesh-sara-aaronso
 hn-our-jewish-mata-hari-1732208594\n\nLearn about Sara Aaronsohn—our Jew
 ish Mata Hari—the leader of the NILI spies\, a Jewish espionage network 
 that existed from 1915-1917.\n\nKaren Goodis will introduce the Rosh Chode
 sh Group to the story of this amazing woman.\n\nJoin us for schmoozing\, n
 oshing (bring your own lunch to the shul or make a place setting by your c
 omputer\, tablet\, or phone). \n\nRSVP in advance https://bit.ly/3CBiHGh\n
 This is a hybrid event (in person or via Zoom)
DTSTART;TZID=America/Toronto:20241125T121500
DTEND;TZID=America/Toronto:20241125T131500
END:VEVENT
END:VCALENDAR
