BEGIN:VCALENDAR
PRODID:-//eluceo/ical//2.0/EN
VERSION:2.0
CALSCALE:GREGORIAN
BEGIN:VEVENT
UID:863719483cf9071b078bae3b64515771
DTSTAMP:20260424T144756Z
SUMMARY:Temple Har Zion:  Purim Events
DESCRIPTION:UJA Federation of Greater Toronto\nJewish Toronto Calendar\nhtt
 ps://jewishtoronto.com/calendar/temple-har-zion--purim-events-1550849539\n
 \nJoin us in celebrating Purim and come in costume:\n5:30pm- pizza dinner\
 n6:45pm: costume parade\n7:00pm: Purim Shpiel & Megillah reading\nAll ages
  are welcome! No charge
DTSTART;TZID=America/Toronto:20190320T173000
DTEND;TZID=America/Toronto:20190320T194500
END:VEVENT
END:VCALENDAR
