BEGIN:VCALENDAR
PRODID:-//eluceo/ical//2.0/EN
VERSION:2.0
CALSCALE:GREGORIAN
BEGIN:VEVENT
UID:286cd424ffd5c40722f81bfeb2fc2f5b
DTSTAMP:20260424T144412Z
SUMMARY:TEMPLE HAR ZION | Purim Carnival!
DESCRIPTION:UJA Federation of Greater Toronto\nJewish Toronto Calendar\nhtt
 ps://jewishtoronto.com/calendar/temple-har-zion--purim-carnival-1676485278
 \n\nMOMS\, DADS\, BUBBIES &amp\; ZAIDIES!\nBring the kids\, join us for a 
 pizza dinner and STAY FOR THE FUN! We’d love to see you in your best cos
 tume\, too!\nCrafts\, games\, jump castle\, prizes\, carnival treats\, ham
 antaschen\, raffle and more!\n&gt\;5-5:30pm: Young families with kids up t
 o 5-years-old (Mini Carnival and activities for the little ones)!\n&gt\;5:
 30-6:45pm: Families with kids of all ages (Party at the Purim Carnival) 
 — look for the Hamantaschen Swap in the kitchen!\n&gt\;6:45pm: Costume p
 arade\,...
DTSTART;TZID=America/Toronto:20230306T170000
DTEND;TZID=America/Toronto:20230306T184500
END:VEVENT
END:VCALENDAR
