BEGIN:VCALENDAR
PRODID:-//eluceo/ical//2.0/EN
VERSION:2.0
CALSCALE:GREGORIAN
BEGIN:VEVENT
UID:56c8f10f2f99c0cc17e745db271e06dd
DTSTAMP:20260419T193821Z
SUMMARY:TEMPLE HAR ZION & PJ LIBRARY | Pre-Hanukkah Celebration!
DESCRIPTION:UJA Federation of Greater Toronto\nJewish Toronto Calendar\nhtt
 ps://jewishtoronto.com/calendar/temple-har-zion--pj-library--pre-hanukkah-
 celebration-1670528317\n\nParents &amp\; Grandparents: \nJoin us for some 
 crafts\, music and other fun activities as we get ready to celebrate Hanuk
 kah! \nThis program is FREE and perfect for kids ages 2-10. \n\nClick here
  to register: https://www.harzion.ca/event/young-family-program--pre-hanuk
 kah-celebration.html
DTSTART;TZID=America/Toronto:20221211T160000
DTEND;TZID=America/Toronto:20221211T170000
END:VEVENT
END:VCALENDAR
