BEGIN:VCALENDAR
PRODID:-//eluceo/ical//2.0/EN
VERSION:2.0
CALSCALE:GREGORIAN
BEGIN:VEVENT
UID:3dbb461ce2c32791d933680147d662a3
DTSTAMP:20260424T144736Z
SUMMARY:Temple Har Zion | Musical Oneg "Hootenanny"!
DESCRIPTION:UJA Federation of Greater Toronto\nJewish Toronto Calendar\nhtt
 ps://jewishtoronto.com/calendar/temple-har-zion--musical-oneg-hootenanny-1
 583247878\n\nFollowing the 8pm Erev Shabbat Service - Join Hazzanit Abrams
  & Ian Silver for a Musical Oneg Shabbat sing-along!\nEveryone's welcome.
DTSTART;TZID=America/Toronto:20200327T200000
DTEND;TZID=America/Toronto:20200327T213000
END:VEVENT
END:VCALENDAR
