BEGIN:VCALENDAR
PRODID:-//eluceo/ical//2.0/EN
VERSION:2.0
CALSCALE:GREGORIAN
BEGIN:VEVENT
UID:b6a279f9be647ae9163bdabedb1dcaea
DTSTAMP:20260420T093226Z
SUMMARY:TEMPLE HAR ZION | Multi-Gen Shabbat Morning Service!
DESCRIPTION:UJA Federation of Greater Toronto\nJewish Toronto Calendar\nhtt
 ps://jewishtoronto.com/calendar/temple-har-zion--multi-gen-shabbat-morning
 -service-1681421086\n\nMay 6 at 10:30am EVERYONE IS WELCOME to our Multi-G
 enerational  Shabbat Morning Service!\nComplete Shabbat Service | Musical 
 | User-friendly\n\nThe liturgy will be family and user-friendly. Julie Ser
 mer will co-lead the service with Rabbi\, Cantor\, and Eleanor\, and we’
 ll provide a short program just for the children during the service (so th
 ey can move around a bit!). \n\nAll our kids will have the opportunity to 
 participate in the service by singing and marching in our hakafah (Torah..
 .
DTSTART;TZID=America/Toronto:20230506T103000
DTEND;TZID=America/Toronto:20230506T123000
END:VEVENT
END:VCALENDAR
