BEGIN:VCALENDAR
PRODID:-//eluceo/ical//2.0/EN
VERSION:2.0
CALSCALE:GREGORIAN
BEGIN:VEVENT
UID:f86f019b74b65f629b7b7823446ac3cc
DTSTAMP:20260423T174308Z
SUMMARY:TEMPLE HAR ZION | "Learning to Dialogue & Learning from Dialogue"
DESCRIPTION:UJA Federation of Greater Toronto\nJewish Toronto Calendar\nhtt
 ps://jewishtoronto.com/calendar/temple-har-zion--learning-to-dialogue--lea
 rning-from-dialogue-1643819646\n\nWorld Interfaith Harmony Week\nThis Sund
 ay at 2pm\, MOSAIC Interfaith will sponsor a discussion with “The Three 
 Amigos”: Rabbi Michael Stroh\, Dr. Liakat Takim\, and Canon John Hill ab
 out Interfaith Dialogue. In these days of rising antisemitism and Islamoph
 obia\, learning to dialogue with other people of faith and learning about 
 them is one of the most effective ways to dispel myths and ignorance about
  people whose culture and religion are different. It is hard to hate someo
 ne you know and...
DTSTART;TZID=America/Toronto:20220206T140000
DTEND;TZID=America/Toronto:20220206T153000
END:VEVENT
END:VCALENDAR
