BEGIN:VCALENDAR
PRODID:-//eluceo/ical//2.0/EN
VERSION:2.0
CALSCALE:GREGORIAN
BEGIN:VEVENT
UID:6be519ed89a721e1f2d51039c334419f
DTSTAMP:20260422T050719Z
SUMMARY:TEMPLE HAR ZION | Kavanah Shabbat: Meditative-Musical Experience
DESCRIPTION:UJA Federation of Greater Toronto\nJewish Toronto Calendar\nhtt
 ps://jewishtoronto.com/calendar/temple-har-zion--kavanah-shabbat-meditativ
 e-musical-experience-1739217210\n\nFRIDAY MARCH 14 at 6:30pm\nKavanah Shab
 bat: A Meditative-Musical Shabbat Experience\nEveryone is welcome to join 
 us as we focus our hearts and souls on music that moves us as a worship co
 mmunity.\n\nRabbi Abraham Joshua Heschel taught that prayer should take us
  out of our heads and into our hearts. Kavanah Shabbat is designed to do j
 ust that: use music\, chant\, breathing and meditation to bring us to new 
 levels.\nCome with an open mind and an open heart! It's a relaxing way to 
 end a busy...
DTSTART;TZID=America/Toronto:20250314T183000
DTEND;TZID=America/Toronto:20250314T193000
END:VEVENT
END:VCALENDAR
