BEGIN:VCALENDAR
PRODID:-//eluceo/ical//2.0/EN
VERSION:2.0
CALSCALE:GREGORIAN
BEGIN:VEVENT
UID:379c3f3d3d6baff5124e88f5bfc2e95b
DTSTAMP:20260425T165341Z
SUMMARY:TEMPLE HAR ZION | Kavanah Shabbat: Meditative-Musical Experience
DESCRIPTION:UJA Federation of Greater Toronto\nJewish Toronto Calendar\nhtt
 ps://jewishtoronto.com/calendar/temple-har-zion--kavanah-shabbat-meditativ
 e-musical-experience-1736267862\n\nFRIDAY JANUARY 10 at 6:30pm\nKavanah Sh
 abbat: A Meditative-Musical Shabbat Experience\nEveryone is welcome to joi
 n us as we focus our hearts and souls on music that moves us as a worship 
 community.\n\nRabbi Abraham Joshua Heschel taught that prayer should take 
 us out of our heads and into our hearts. Kavanah Shabbat is designed to do
  just that: use music\, chant\, breathing and meditation to bring us to ne
 w levels.\nCome with an open mind and an open heart! It's a relaxing way t
 o end a busy...
DTSTART;TZID=America/Toronto:20250110T183000
DTEND;TZID=America/Toronto:20250110T193000
END:VEVENT
END:VCALENDAR
