BEGIN:VCALENDAR
PRODID:-//eluceo/ical//2.0/EN
VERSION:2.0
CALSCALE:GREGORIAN
BEGIN:VEVENT
UID:ffad66d0901fcb11a0f6cb68b3a86036
DTSTAMP:20260419T221837Z
SUMMARY:Temple Har Zion | Jews on Broadway
DESCRIPTION:UJA Federation of Greater Toronto\nJewish Toronto Calendar\nhtt
 ps://jewishtoronto.com/calendar/temple-har-zion--jews-on-broadway-15832482
 99\n\nMusical Theatre is the quintessential American art form. Jews have n
 ot only created thousands of musicals\, but appear as characters in them a
 s well. How have Jewish characters and stories been portrayed in the Music
 al Theatre?\n\nCome and learn about musicals with Jews\, both well-known a
 nd obscure — and Rabbi Weiss is an expert on obscure musicals!\n\nPresen
 ted by THZ Brotherhood\nFREE to Brotherhood & Sisterhood Members and their
  spouses\; THZ Members $5\; Non-Members $7\nLight Refreshments w...
DTSTART;TZID=America/Toronto:20200331T193000
DTEND;TZID=America/Toronto:20200331T213000
END:VEVENT
END:VCALENDAR
