BEGIN:VCALENDAR
PRODID:-//eluceo/ical//2.0/EN
VERSION:2.0
CALSCALE:GREGORIAN
BEGIN:VEVENT
UID:7ced33ee54eac1a2fb7b778ff6c4618b
DTSTAMP:20260421T170334Z
SUMMARY:Temple Har Zion | Hanukkah Kol Bo Shabbat
DESCRIPTION:UJA Federation of Greater Toronto\nJewish Toronto Calendar\nhtt
 ps://jewishtoronto.com/calendar/temple-har-zion--hanukkah-kol-bo-shabbat-1
 575401879\n\nLet’s celebrate Hanukkah with a Kol Bo like no other… 6:0
 0 PM SEUDAH | 6:30 PM ALL-MUSIC SERVICE WITH VISUAL T’FILAH  7:30 PM CAT
 ERED PARTY BY CHEF-ON-THE-GO  It’s a heimishe Hanukkah cocktail party bu
 rsting with your favourite treats… chicken soup shooters\,  brisket slid
 ers\, schnitzel sticks and so much more! Party (by reservation only) MEMBE
 RS: Adults - $25 | Children 12 and under - $15  NON-MEMBERS: Adults - $30 
 | Children 12 and under - $20  Children 5 and under are FREEGet into...
DTSTART;TZID=America/Toronto:20191220T180000
DTEND;TZID=America/Toronto:20191220T210000
END:VEVENT
END:VCALENDAR
