BEGIN:VCALENDAR
PRODID:-//eluceo/ical//2.0/EN
VERSION:2.0
CALSCALE:GREGORIAN
BEGIN:VEVENT
UID:fb27c48bc8ea901e8df6747cabfcebd7
DTSTAMP:20260419T200642Z
SUMMARY:TEMPLE HAR ZION | Family Shabbat Dinner & Service
DESCRIPTION:UJA Federation of Greater Toronto\nJewish Toronto Calendar\nhtt
 ps://jewishtoronto.com/calendar/temple-har-zion--family-shabbat-dinner--se
 rvice-1729541699\n\nTHZ’s family service is designed for you and your ch
 ildren to have a family-friendly Shabbat worship experience! We’d love t
 o see you there! \n\nFriday November 1 Family Shabbat Dinner &amp\; Servic
 e | dinner@5:45pm\; service 6:30pm\nRSVP in advance https://bit.ly/3UkjvVV
DTSTART;TZID=America/Toronto:20241101T174500
DTEND;TZID=America/Toronto:20241101T193000
END:VEVENT
END:VCALENDAR
