BEGIN:VCALENDAR
PRODID:-//eluceo/ical//2.0/EN
VERSION:2.0
CALSCALE:GREGORIAN
BEGIN:VEVENT
UID:55e628ece901ce173dc1a2a1dfd1ac37
DTSTAMP:20260422T021818Z
SUMMARY:TEMPLE HAR ZION | Courts\, Communities and Hate Crimes
DESCRIPTION:UJA Federation of Greater Toronto\nJewish Toronto Calendar\nhtt
 ps://jewishtoronto.com/calendar/temple-har-zion--courts-communities-and-ha
 te-crimes-1619730812\n\nHow do the Courts address hate in Ontario communit
 ies to effect change?\n\nThe recent rise in hate crimes is one of the most
  important issues of our time.  Please join us for a virtual panel discuss
 ion with our esteemed guests\, followed by a Q&amp\;A session.\n\nPanelist
 s:\nJustice Michael Tulloch - Ontario Court of Appeal\nJustice Harvey Brow
 nstone - Ontario Court of Justice\nMichal Schlesinger - Senior Human Right
 s Liaison\, B&#039\;nai Brith Canada\n\nFor more info and to register:...
DTSTART;TZID=America/Toronto:20210511T193000
DTEND;TZID=America/Toronto:20210511T213000
END:VEVENT
END:VCALENDAR
