BEGIN:VCALENDAR
PRODID:-//eluceo/ical//2.0/EN
VERSION:2.0
CALSCALE:GREGORIAN
BEGIN:VEVENT
UID:b1a1a6937bfa7cf6a20faf5f4a327e87
DTSTAMP:20260419T151720Z
SUMMARY:TEMPLE HAR ZION | "Can we talk?" about Tikkun Olam
DESCRIPTION:UJA Federation of Greater Toronto\nJewish Toronto Calendar\nhtt
 ps://jewishtoronto.com/calendar/temple-har-zion--can-we-talk-about-tikkun-
 olam-1663606020\n\nWEDNESDAY OCTOBER 12 at 7pm\nTemple Har Zion’s Strate
 gic Planning Committee invites you to participate in this important focus 
 group.\n\nAre you concerned about social or environmental issues? \nWould 
 you like to be able to engage with such issues through the Jewish communit
 y? \nWhat role can a synagogue like ours play in supporting your efforts t
 o “heal and repair the world”?\n\nMembers\, non-members and friends ar
 e welcome! Please register in...
DTSTART;TZID=America/Toronto:20221012T190000
DTEND;TZID=America/Toronto:20221012T210000
END:VEVENT
END:VCALENDAR
