BEGIN:VCALENDAR
PRODID:-//eluceo/ical//2.0/EN
VERSION:2.0
CALSCALE:GREGORIAN
BEGIN:VEVENT
UID:e128d491e30caf0da381d4623264805f
DTSTAMP:20260421T221515Z
SUMMARY:TEMPLE HAR ZION | "Before the Beginning and After the End"
DESCRIPTION:UJA Federation of Greater Toronto\nJewish Toronto Calendar\nhtt
 ps://jewishtoronto.com/calendar/temple-har-zion--before-the-beginning-and-
 after-the-end-1710448560\n\nTHURSDAY APRIL 4 at 7:30pm | "Before the Begin
 ning and After the End" - a conversation with the author\, Dr. Hymie Anism
 an\n\nHow do survivors of genocide come to terms with the horrors they wit
 nessed and experienced?\nMost of the author’s family did not survive the
  Shoah\, however\, Hymie’s parents did\, and emigrated to Canada\, settl
 ing in Montreal\, in 1950. Hymie Anisman was two years old at the time.\n\
 nHe will share his thoughts on the life trajectory of several survivors we
 aving into...
DTSTART;TZID=America/Toronto:20240404T193000
DTEND;TZID=America/Toronto:20240404T213000
END:VEVENT
END:VCALENDAR
