BEGIN:VCALENDAR
PRODID:-//eluceo/ical//2.0/EN
VERSION:2.0
CALSCALE:GREGORIAN
BEGIN:VEVENT
UID:a8fea28d2ef5a7950da3c3c619d98a25
DTSTAMP:20260420T043140Z
SUMMARY:Temple Har Zion:   Protest Songs of Israel with Rabbi Englander
DESCRIPTION:UJA Federation of Greater Toronto\nJewish Toronto Calendar\nhtt
 ps://jewishtoronto.com/calendar/temple-har-zion---protest-songs-of-israel-
 with-rabbi-englander-1515774967\n\nThe THZ Adult Education Committee prese
 nts Rabbi Larry Englander\, Rabbi Emeritus of Solel Congregation\, after t
 he 8:00 PM service. Rabbi Englander will present 'Protest Songs of Israel'
 . Listen to and discuss protest songs going back to the aftermath of the 1
 967 Six Day War and continuing on to the present.
DTSTART;TZID=America/Toronto:20180223T200000
DTEND;TZID=America/Toronto:20180223T213000
END:VEVENT
END:VCALENDAR
