BEGIN:VCALENDAR
PRODID:-//eluceo/ical//2.0/EN
VERSION:2.0
CALSCALE:GREGORIAN
BEGIN:VEVENT
UID:3d5c7f6cc6913bb92d15033f9d467c4f
DTSTAMP:20260422T022352Z
SUMMARY:Teens Baking Cookies for Ve'ahavta
DESCRIPTION:UJA Federation of Greater Toronto\nJewish Toronto Calendar\nhtt
 ps://jewishtoronto.com/calendar/teens-baking-cookies-for-veahavta-16103920
 68\n\nCalling all teens in Grades 8 to 12: Join (virtually) Beth Tzedec&#0
 39\;s BTUSY teen group as we bake delicious cookies to donate to Ve&#039\;
 Ahavta ... baked fresh in our own homes! To participate\, you should have 
 all the ingredients on-hand and ready for our Zoom program. (Visit our web
 site for list of ingredients needed). Pre-registration required to receive
  the Zoom link information.
DTSTART;TZID=America/Toronto:20210117T170000
DTEND;TZID=America/Toronto:20210117T181500
END:VEVENT
END:VCALENDAR
