BEGIN:VCALENDAR
PRODID:-//eluceo/ical//2.0/EN
VERSION:2.0
CALSCALE:GREGORIAN
BEGIN:VEVENT
UID:d2955b57e9d845d71c5f66b22422993f
DTSTAMP:20260422T080230Z
SUMMARY:Tee Off for TanenbaumCHAT 2020
DESCRIPTION:UJA Federation of Greater Toronto\nJewish Toronto Calendar\nhtt
 ps://jewishtoronto.com/calendar/tee-off-for-tanenbaumchat-2020-1576788902\
 n\nTanenbaumCHAT Golf Tournament
DTSTART;TZID=America/Toronto:20200610T110000
DTEND;TZID=America/Toronto:20200610T190000
END:VEVENT
END:VCALENDAR
